{"text_format":"1","workbook":"xlsx","n_sheets":8,"sheets":["LToernooi","LSpelers","3BToernooi","3BSpelers","BSToernooi","BSSpelers","Uitleg","Menu"],"not_rendered":{"charts":0,"images":10,"macros":1,"external_links":0,"defined_names":3,"comments":1,"pivot_tables":0},"unopened":[],"bounds":{"document_bytes":16777216,"sheet_cells":100000,"rows_first":2000,"rows_last":500,"rows_between":2000,"halvings":0,"cell_chars":16384,"cell_head_chars":4096},"cells_cut":0,"cells_raw":0,"read":"whole","date_system":"1900"}

{"sheet":"LToernooi","index":0,"n_rows":65,"n_cols":34,"rows_kept":65,"cut":false,"hidden":false,"merged":[[60,1,61,1],[60,2,61,2],[60,3,61,3],[60,4,61,4],[62,25,63,25],[62,26,63,26],[64,1,65,1],[64,2,65,2],[64,3,65,3],[64,4,65,4],[64,5,65,5],[64,6,65,6],[64,25,65,25],[64,26,65,26],[62,9,63,9],[62,10,63,10],[62,11,63,11],[62,12,63,12],[62,13,63,13],[62,14,63,14],[60,5,61,5],[60,6,61,6],[60,10,61,10],[60,11,61,11],[60,12,61,12],[56,18,57,18],[56,19,57,19],[56,20,57,20],[56,21,57,21],[60,13,61,13],[60,14,61,14],[56,22,57,22],[58,17,59,17],[58,18,59,18],[58,19,59,19],[58,20,59,20],[58,21,59,21],[56,1,57,1],[56,2,57,2],[56,3,57,3],[56,4,57,4],[56,5,57,5],[56,6,57,6],[58,22,59,22],[52,13,53,13],[52,14,53,14],[54,9,55,9],[54,10,55,10],[54,11,55,11],[54,12,55,12],[54,13,55,13],[54,14,55,14],[52,1,53,1],[52,2,53,2],[52,3,53,3],[52,4,53,4],[52,5,53,5],[52,6,53,6],[52,10,53,10],[52,11,53,11],[52,12,53,12],[48,26,49,26],[48,27,49,27],[48,28,49,28],[48,29,49,29],[48,30,49,30],[50,25,51,25],[50,26,51,26],[50,27,51,27],[50,28,51,28],[50,29,51,29],[50,30,51,30],[48,1,49,1],[48,2,49,2],[48,3,49,3],[48,4,49,4],[48,5,49,5],[48,6,49,6],[44,13,45,13],[44,14,45,14],[46,9,47,9],[46,10,47,10],[46,11,47,11],[46,12,47,12],[46,13,47,13],[46,14,47,14],[44,1,45,1],[44,2,45,2],[44,3,45,3],[44,4,45,4],[44,5,45,5],[44,6,45,6],[44,10,45,10],[44,11,45,11],[44,12,45,12],[40,21,41,21],[40,22,41,22],[42,17,43,17],[42,18,43,18],[42,19,43,19],[42,20,43,20],[42,21,43,21],[42,22,43,22],[43,24,44,24],[40,1,41,1],[40,2,41,2],[40,3,41,3],[40,4,41,4],[40,5,41,5],[40,6,41,6],[40,18,41,18],[40,19,41,19],[40,20,41,20],[35,25,36,25],[35,26,36,28],[37,25,38,25],[37,26,38,26],[38,9,39,9],[38,10,39,10],[38,11,39,11],[38,12,39,12],[38,13,39,13],[38,14,39,14],[38,17,39,17],[38,18,39,18],[38,20,39,20],[38,21,39,21],[38,23,39,23],[36,1,37,1],[36,2,37,2],[36,3,37,3],[36,4,37,4],[36,5,37,5],[31,25,32,25],[31,26,32,26],[31,28,32,28],[31,33,32,33],[32,1,33,1],[32,2,33,2],[32,3,33,3],[32,4,33,4],[32,5,33,5],[32,6,33,6],[36,6,37,6],[36,10,37,10],[36,11,37,11],[36,12,37,12],[36,13,37,13],[36,14,37,14],[33,25,34,25],[33,26,34,28],[34,33,35,33],[28,13,29,13],[28,14,29,14],[30,9,31,9],[30,10,31,10],[30,11,31,11],[30,12,31,12],[30,13,31,13],[30,14,31,14],[26,22,27,22],[28,1,29,1],[28,2,29,2],[28,3,29,3],[28,4,29,4],[28,5,29,5],[28,6,29,6],[28,10,29,10],[28,11,29,11],[28,12,29,12],[24,18,25,18],[24,19,25,19],[24,20,25,20],[24,21,25,21],[24,22,25,22],[26,17,27,17],[26,18,27,18],[26,19,27,19],[26,20,27,20],[26,21,27,21],[24,1,25,1],[24,2,25,2],[24,3,25,3],[24,4,25,4],[24,5,25,5],[24,6,25,6],[20,12,21,12],[20,13,21,13],[20,14,21,14],[22,9,23,9],[22,10,23,10],[22,11,23,11],[22,12,23,12],[22,13,23,13],[22,14,23,14],[19,32,20,32],[20,1,21,1],[20,2,21,2],[20,3,21,3],[20,4,21,4],[20,5,21,5],[20,6,21,6],[20,10,21,10],[20,11,21,11],[16,26,17,26],[16,27,17,27],[16,28,17,28],[16,29,17,29],[16,30,17,30],[18,25,19,25],[18,26,19,26],[18,27,19,27],[18,28,19,28],[18,29,19,29],[18,30,19,30],[14,25,15,25],[16,1,17,1],[16,2,17,2],[16,3,17,3],[16,4,17,4],[16,5,17,5],[16,6,17,6],[12,12,13,12],[12,13,13,13],[12,14,13,14],[14,9,15,9],[14,10,15,10],[14,11,15,11],[14,12,15,12],[14,13,15,13],[14,14,15,14],[11,24,12,24],[12,1,13,1],[12,2,13,2],[12,3,13,3],[12,4,13,4],[12,5,13,5],[12,6,13,6],[12,10,13,10],[12,11,13,11],[8,18,9,18],[8,19,9,19],[8,20,9,20],[8,21,9,21],[8,22,9,22],[10,17,11,17],[10,18,11,18],[10,19,11,19],[10,20,11,20],[10,21,11,21],[10,22,11,22],[6,12,7,12],[6,13,7,13],[6,14,7,14],[6,17,7,17],[7,16,8,16],[8,1,9,1],[8,2,9,2],[8,3,9,3],[8,4,9,4],[8,5,9,5],[8,6,9,6],[2,30,3,33],[2,9,3,9],[4,1,5,1],[4,2,5,2],[4,3,5,3],[4,4,5,4],[4,5,5,5],[4,6,5,6],[4,10,5,10],[4,11,5,11],[2,1,3,1],[2,2,3,2],[2,3,3,3],[2,4,3,4],[2,5,3,5],[2,6,3,6],[4,12,5,12],[4,13,5,13],[4,14,5,14],[4,31,5,33],[5,8,6,8],[6,9,7,9],[6,10,7,10],[6,11,7,11]]}
[]
[null,"Voorrondes"]
[null,null,"RM","RG","B","GC","HS",null,null,"Kwart finale",null,null,null,null,null,null,null,null,null,null,null,null,null,null,null,null,null,null,null,null,"Gemaakt door Mrah Development bv"]
[]
[null,{"$f":"LSpelers!C4","v":"Mrah Zelf"},{"$f":"LSpelers!D4","v":44},{"$f":"C5/AA38","v":1.4666666666666666},null,null,null,1,null,null,{"$f":"C3","v":"RM"},{"$f":"D3","v":"RG"},{"$f":"E3","v":"B"},{"$f":"F3","v":"GC"},{"$f":"G3","v":"HS"},null,null,null,null,null,null,null,null,null,null,null,null,null,null,null,null,"Revisie 1.0c"]
[]
[null,null,null,null,null,null,null,null,null,{"$f":"IF(SUM(E5:G5)+SUM(E9:G9)>0,IF(AND(F5=C5,F9=C9),IF(G5/F5>G9/F9,B5,B9),IF(C5-F5<C9-F9,B5,B9)),0)","v":0},{"$f":"IF(J7>0,IF(J7=B5,C5,C9),0)","v":0},{"$f":"K7/AA38","v":0},null,null,null,null,null,"Halve finale"]
[]
[null,{"$f":"LSpelers!C5","v":"Flodur"},{"$f":"LSpelers!D5","v":65},{"$f":"C9/AA38","v":2.1666666666666665},null,null,null,null,null,null,null,null,null,null,null,null,null,null,{"$f":"K5","v":"RM"},{"$f":"L5","v":"RG"},"B","GC","HS"]
[]
[null,null,null,null,null,null,null,null,null,null,null,null,null,null,null,null,null,{"$f":"IF(SUM(M7:O8)+SUM(M15:O16)>0,IF(AND(N7=K7,N15=K15),IF(O7/N7>O15/N15,J7,J15),IF(K7-N7<K15-N15,J7,J15)),0)","v":0},{"$f":"IF(R11>0,IF(R11=J7,K7,K15),0)","v":0},{"$f":"S11/AA38","v":0}]
[]
[null,{"$f":"LSpelers!C6","v":0},{"$f":"LSpelers!D6","v":0},{"$f":"C13/AA38","v":0},null,null,null,{"$f":"H5+1","v":2},null,null,{"$f":"K5","v":"RM"},{"$f":"L5","v":"RG"},null,{"$f":"N5","v":"GC"},{"$f":"O5","v":"HS"}]
[]
[null,null,null,null,null,null,null,null,null,{"$f":"IF(SUM(E13:G13)+SUM(E17:G17)>0,IF(AND(F13=C13,F17=C17),IF(G13/F13>G17/F17,B13,B17),IF(C13-F13<C17-F17,B13,B17)),0)","v":0},{"$f":"IF(J15>0,IF(J15=B13,C13,C17),0)","v":0},{"$f":"K15/AA38","v":0},{"$f":"M7","v":0},null,null,null,null,null,null,null,null,null,null,null,null,"Finale"]
[]
[null,{"$f":"LSpelers!C7","v":0},{"$f":"LSpelers!D7","v":0},{"$f":"C17/AA38","v":0},null,null,null,null,null,null,null,null,null,null,null,null,null,null,null,null,null,null,null,null,null,null,{"$f":"S9","v":"RM"},{"$f":"T9","v":"RG"},"B","GC","HS"]
[]
[null,null,null,null,null,null,null,null,null,null,null,null,null,null,null,null,null,null,null,null,null,null,null,null,null,{"$f":"IF(SUM(U11:W12)+SUM(U27:W28)>0,IF(AND(V11=S11,V27=S27),IF(W11/V11>W27/V27,R11,R27),IF(S11-V11<S27-V27,R11,R27)),0)","v":0},{"$f":"IF(Z19>0,IF(Z19=R11,S11,S27),0)","v":0},{"$f":"AA19/AA38","v":0}]
[]
[null,{"$f":"LSpelers!C8","v":0},{"$f":"LSpelers!D8","v":0},{"$f":"C21/AA38","v":0},null,null,null,{"$f":"H13+1","v":3},null,null,{"$f":"K13","v":"RM"},{"$f":"L13","v":"RG"},{"$f":"M5","v":"B"},{"$f":"N13","v":"GC"},{"$f":"O13","v":"HS"}]
[]
[null,null,null,null,null,null,null,null,null,{"$f":"IF(SUM(E21:G21)+SUM(E25:G25)>0,IF(AND(F21=C21,F25=C25),IF(G21/F21>G25/F25,B21,B25),IF(C21-F21<C25-F25,B21,B25)),0)","v":0},{"$f":"IF(J23>0,IF(J23=B21,C21,C25),0)","v":0},{"$f":"K23/AA38","v":0}]
[]
[null,{"$f":"LSpelers!C9","v":0},{"$f":"LSpelers!D9","v":0},{"$f":"C25/AA38","v":0},null,null,null,null,null,null,null,null,null,null,null,null,null,null,{"$f":"S9","v":"RM"},{"$f":"T9","v":"RG"},null,{"$f":"V9","v":"GC"},{"$f":"W9","v":"HS"}]
[]
[null,null,null,null,null,null,null,null,null,null,null,null,null,null,null,null,null,{"$f":"IF(SUM(M23:O24)+SUM(M31:O32)>0,IF(AND(N23=K23,N31=K31),IF(O23/N23>O31/N31,J23,J31),IF(K23-N23<K31-N31,J23,J31)),0)","v":0},{"$f":"IF(R27>0,IF(R27=J23,K23,K31),0)","v":0},{"$f":"S27/AA38","v":0},{"$f":"U11","v":0}]
[]
[null,{"$f":"LSpelers!C10","v":0},{"$f":"LSpelers!D10","v":0},{"$f":"C29/AA38","v":0},null,null,null,{"$f":"H21+1","v":4},null,null,{"$f":"K21","v":"RM"},{"$f":"L21","v":"RG"},null,{"$f":"N21","v":"GC"},{"$f":"O21","v":"HS"}]
[]
[null,null,null,null,null,null,null,null,null,{"$f":"IF(SUM(E29:G29)+SUM(E33:G33)>0,IF(AND(F29=C29,F33=C33),IF(G29/F29>G33/F33,B29,B33),IF(C29-F29<C33-F33,B29,B33)),0)","v":0},{"$f":"IF(J31>0,IF(J31=B29,C29,C33),0)","v":0},{"$f":"K31/AA38","v":0},{"$f":"M23","v":0}]
[null,null,null,null,null,null,null,null,null,null,null,null,null,null,null,null,null,null,null,null,null,null,null,null,null,{"$f":"LSpelers!B22","v":"Jaar "},{"$f":"LSpelers!C22","v":2014},null,null,null,null,null,null,"Finalist"]
[null,{"$f":"LSpelers!C11","v":0},{"$f":"LSpelers!D11","v":0},{"$f":"C33/AA38","v":0}]
[null,null,null,null,null,null,null,null,null,null,null,null,null,null,null,null,null,null,null,null,null,null,null,null,null,{"$f":"LSpelers!B23","v":"Club "},{"$f":"Menu!F14","v":"Flodurianen"}]
[null,null,null,null,null,null,null,null,null,null,null,null,null,null,null,null,null,null,null,null,null,null,null,null,null,null,null,null,null,null,null,null,null,{"$f":"IF(SUM(AC19:AE20)+SUM(AC51:AE52)>0,IF(AND(AD19=AA19,AD51=AA51),IF(AE19/AD19>AE51/AD51,Z19,Z51),IF(AA19-AD19<AA51-AD51,Z19,Z51)),0)","v":0}]
[null,null,null,null,null,null,null,null,null,null,null,null,null,null,null,null,null,null,null,null,null,null,null,null,null,{"$f":"LSpelers!B24","v":"Spelsoort "},{"$f":"LSpelers!C24","v":"Libre"}]
[null,{"$f":"LSpelers!C12","v":0},{"$f":"LSpelers!D12","v":0},{"$f":"C37/AA38","v":0},null,null,null,{"$f":"H29+1","v":5},null,null,{"$f":"K29","v":"RM"},{"$f":"L29","v":"RG"},{"$f":"M21","v":"B"},{"$f":"N29","v":"GC"},{"$f":"O29","v":"HS"}]
[null,null,null,null,null,null,null,null,null,null,null,null,null,null,null,null,null,null,null,null,null,null,null,null,null,{"$f":"LSpelers!B25","v":"Beurten "},{"$f":"LSpelers!C25","v":30}]
[null,null,null,null,null,null,null,null,null,{"$f":"IF(SUM(E37:G37)+SUM(E41:G41)>0,IF(AND(F37=C37,F41=C41),IF(G37/F37>G41/F41,B37,B41),IF(C37-F37<C41-F41,B37,B41)),0)","v":0},{"$f":"IF(J39>0,IF(J39=B51,C51,C41),0)","v":0},{"$f":"K39/AA38","v":0}]
[]
[null,{"$f":"LSpelers!C13","v":0},{"$f":"LSpelers!D13","v":0},{"$f":"C41/AA38","v":0},null,null,null,null,null,null,null,null,null,null,null,null,null,null,{"$f":"S25","v":"RM"},{"$f":"T25","v":"RG"},{"$f":"U9","v":"B"},"GC","HS"]
[]
[null,null,null,null,null,null,null,null,null,null,null,null,null,null,null,null,null,{"$f":"IF(SUM(M39:O40)+SUM(M47:O48)>0,IF(AND(N39=K39,N47=K47),IF(O39/N39>O47/N47,J39,J47),IF(K39-N39<K47-N47,J39,J47)),0)","v":0},{"$f":"IF(R51>0,IF(R51=J39,K39,K47),0)","v":0},{"$f":"S43/AA38","v":0}]
[]
[null,{"$f":"LSpelers!C14","v":0},{"$f":"LSpelers!D14","v":0},{"$f":"C45/AA38","v":0},null,null,null,{"$f":"H37+1","v":6},null,null,{"$f":"K37","v":"RM"},{"$f":"L37","v":"RG"},null,{"$f":"N37","v":"GC"},{"$f":"O37","v":"HS"}]
[]
[null,null,null,null,null,null,null,null,null,{"$f":"IF(SUM(E45:G45)+SUM(E49:G49)>0,IF(AND(F45=C45,F49=C49),IF(G45/F45>G49/F49,B45,B49),IF(C45-F45<C49-F49,B45,B49)),0)","v":0},{"$f":"IF(J47>0,IF(J47=B45,C45,C49),0)","v":0},{"$f":"K47/AA38","v":0},{"$f":"M39","v":0}]
[]
[null,{"$f":"LSpelers!C15","v":0},{"$f":"LSpelers!D15","v":0},{"$f":"C49/AA38","v":0},null,null,null,null,null,null,null,null,null,null,null,null,null,null,null,null,null,null,null,null,null,null,{"$f":"AA17","v":"RM"},{"$f":"AB17","v":"RG"},null,{"$f":"AD17","v":"GC"},{"$f":"AE17","v":"HS"}]
[]
[null,null,null,null,null,null,null,null,null,null,null,null,null,null,null,null,null,null,null,null,null,null,null,null,null,{"$f":"IF(SUM(U43:W43)+SUM(U59:W60)>0,IF(AND(V43=S43,V59=S59),IF(W43/V43>W59/V59,R43,R59),IF(S43-V43<S59-V59,R43,R59)),0)","v":0},{"$f":"IF(Z51>0,IF(Z51=R43,S43,S59),0)","v":0},{"$f":"AA51/AA38","v":0},{"$f":"AC19","v":0}]
[]
[null,{"$f":"LSpelers!C16","v":0},{"$f":"LSpelers!D16","v":0},{"$f":"C53/AA38","v":0},null,null,null,{"$f":"H45+1","v":7},null,null,{"$f":"K45","v":"RM"},{"$f":"L45","v":"RG"},{"$f":"M37","v":"B"},{"$f":"N45","v":"GC"},{"$f":"O45","v":"HS"}]
[]
[null,null,null,null,null,null,null,null,null,{"$f":"IF(SUM(E53:G53)+SUM(E57:G57)>0,IF(AND(F53=C53,F57=C57),IF(G53/F53>G57/F57,B53,B57),IF(C53-F53<C57-F57,B53,B57)),0)","v":0},{"$f":"IF(J55>0,IF(J55=B53,C53,C57),0)","v":0},{"$f":"K55/AA38","v":0}]
[]
[null,{"$f":"LSpelers!C17","v":0},{"$f":"LSpelers!D17","v":0},{"$f":"C57/AA38","v":0},null,null,null,null,null,null,null,null,null,null,null,null,null,null,{"$f":"S41","v":"RM"},{"$f":"T41","v":"RG"},null,{"$f":"V41","v":"GC"},{"$f":"W41","v":"HS"}]
[]
[null,null,null,null,null,null,null,null,null,null,null,null,null,null,null,null,null,{"$f":"IF(SUM(M55:O56)+SUM(M63:O64)>0,IF(AND(N55=K55,N63=K63),IF(O55/N55>O63/N63,J55,J63),IF(K55-N55<K63-N63,J55,J63)),0)","v":0},{"$f":"IF(R59>0,IF(R59=J55,K55,K63),0)","v":0},{"$f":"S59/AA38","v":0},{"$f":"U51","v":0}]
[]
[null,{"$f":"LSpelers!C18","v":0},{"$f":"LSpelers!D18","v":0},{"$f":"C61/AA38","v":0},null,null,null,{"$f":"H53+1","v":8},null,null,{"$f":"K53","v":"RM"},{"$f":"L53","v":"RG"},null,{"$f":"N53","v":"GC"},{"$f":"O53","v":"HS"}]
[]
[null,null,null,null,null,null,null,null,null,{"$f":"IF(SUM(E61:G61)+SUM(E65:G65)>0,IF(AND(F61=C61,F65=C65),IF(G61/F61>G65/F65,B61,B65),IF(C61-F61<C65-F65,B61,B65)),0)","v":0},{"$f":"IF(J63>0,IF(J63=B61,C61,C65),0)","v":0},{"$f":"K63/AA38","v":0},{"$f":"M55","v":0}]
[]
[null,{"$f":"LSpelers!C19","v":0},{"$f":"LSpelers!D19","v":0},{"$f":"C65/AA38","v":0}]

{"sheet":"LSpelers","index":1,"n_rows":25,"n_cols":12,"rows_kept":25,"cut":false,"hidden":false,"merged":[[2,1,2,2]]}
[]
[]
[null,{"$f":"LToernooi!AF5","v":"Revisie 1.0c"},null,"Rooster Caramboles",null,{"$f":"LToernooi!J3","v":"Kwart finale"},null,{"$f":"LToernooi!R7","v":"Halve finale"},null,{"$f":"LToernooi!Z15","v":"Finale"},null,{"$f":"LToernooi!AH32","v":"Finalist"}]
[null,1,"Mrah Zelf",44,null,{"$f":"LToernooi!J7","v":0},null,{"$f":"LToernooi!R11","v":0},null,{"$f":"LToernooi!Z19","v":0},null,{"$f":"LToernooi!AH35","v":0}]
[null,2,"Flodur",65,null,{"$f":"LToernooi!J15","v":0},null,{"$f":"LToernooi!R27","v":0},null,{"$f":"LToernooi!Z51","v":0}]
[null,3,null,null,null,{"$f":"LToernooi!J23","v":0},null,{"$f":"LToernooi!R43","v":0}]
[null,4,null,null,null,{"$f":"LToernooi!J31","v":0},null,{"$f":"LToernooi!R59","v":0}]
[null,5,null,null,null,{"$f":"LToernooi!J39","v":0}]
[null,6,null,null,null,{"$f":"LToernooi!J47","v":0}]
[null,7,null,null,null,{"$f":"LToernooi!J55","v":0}]
[null,8,null,null,null,{"$f":"LToernooi!J63","v":0}]
[null,9]
[null,10]
[null,11]
[null,12]
[null,13]
[null,14]
[null,15]
[null,16]
[null,"Spelers",{"$f":"SUBTOTAL(3,C4:C19)","v":2}]
[]
[null,"Jaar ",{"$f":"YEAR(TODAY())","v":2014}]
[null,"Club ",{"$f":"Menu!F14","v":"Flodurianen"}," Wordt ook gebruikt voor de andere spelsoorten"]
[null,"Spelsoort ","Libre"]
[null,"Beurten ",30]

{"sheet":"3BToernooi","index":2,"n_rows":65,"n_cols":34,"rows_kept":65,"cut":false,"hidden":false,"merged":[[64,25,65,25],[64,26,65,26],[11,24,12,24],[43,24,44,24],[7,16,8,16],[62,25,63,25],[62,26,63,26],[38,17,39,17],[38,18,39,18],[38,20,39,20],[38,21,39,21],[58,17,59,17],[58,18,59,18],[58,19,59,19],[58,20,59,20],[58,21,59,21],[58,22,59,22],[42,18,43,18],[42,19,43,19],[14,25,15,25],[31,25,32,25],[33,25,34,25],[35,25,36,25],[37,25,38,25],[19,32,20,32],[5,8,6,8],[50,26,51,26],[50,27,51,27],[50,28,51,28],[50,29,51,29],[50,30,51,30],[18,25,19,25],[18,27,19,27],[18,28,19,28],[18,29,19,29],[18,30,19,30],[38,13,39,13],[38,14,39,14],[42,17,43,17],[30,12,31,12],[30,13,31,13],[30,14,31,14],[22,10,23,10],[22,11,23,11],[31,28,32,28],[37,26,38,26],[26,17,27,17],[26,18,27,18],[54,9,55,9],[54,10,55,10],[22,9,23,9],[42,20,43,20],[64,1,65,1],[64,2,65,2],[64,3,65,3],[64,4,65,4],[64,5,65,5],[64,6,65,6],[62,9,63,9],[62,10,63,10],[62,11,63,11],[62,12,63,12],[62,13,63,13],[62,14,63,14],[60,1,61,1],[60,2,61,2],[60,3,61,3],[60,4,61,4],[60,5,61,5],[60,6,61,6],[26,19,27,19],[26,20,27,20],[52,1,53,1],[52,2,53,2],[52,3,53,3],[52,4,53,4],[52,5,53,5],[52,6,53,6],[56,1,57,1],[56,2,57,2],[56,3,57,3],[56,4,57,4],[56,5,57,5],[56,6,57,6],[40,2,41,2],[40,3,41,3],[40,4,41,4],[40,5,41,5],[40,6,41,6],[36,2,37,2],[36,3,37,3],[36,4,37,4],[36,5,37,5],[36,6,37,6],[32,6,33,6],[50,25,51,25],[18,26,19,26],[48,2,49,2],[48,3,49,3],[48,4,49,4],[48,5,49,5],[48,6,49,6],[46,9,47,9],[46,10,47,10],[46,11,47,11],[46,12,47,12],[46,13,47,13],[46,14,47,14],[44,2,45,2],[44,3,45,3],[44,4,45,4],[44,5,45,5],[44,6,45,6],[38,9,39,9],[38,10,39,10],[26,21,27,21],[26,22,27,22],[38,11,39,11],[30,9,31,9],[30,10,31,10],[30,11,31,11],[28,6,29,6],[24,2,25,2],[24,3,25,3],[24,4,25,4],[24,5,25,5],[24,6,25,6],[40,1,41,1],[44,1,45,1],[48,1,49,1],[4,1,5,1],[8,1,9,1],[16,1,17,1],[12,1,13,1],[4,12,5,12],[4,13,5,13],[28,12,29,12],[28,13,29,13],[36,1,37,1],[8,6,9,6],[36,12,37,12],[36,13,37,13],[20,2,21,2],[20,3,21,3],[20,4,21,4],[20,5,21,5],[20,6,21,6],[12,2,13,2],[12,6,13,6],[6,10,7,10],[6,11,7,11],[2,1,3,1],[20,1,21,1],[24,1,25,1],[28,1,29,1],[32,1,33,1],[16,2,17,2],[16,3,17,3],[16,4,17,4],[16,5,17,5],[12,3,13,3],[12,4,13,4],[12,5,13,5],[28,2,29,2],[28,3,29,3],[28,4,29,4],[28,5,29,5],[8,2,9,2],[8,3,9,3],[8,4,9,4],[8,5,9,5],[32,2,33,2],[32,3,33,3],[32,4,33,4],[32,5,33,5],[56,20,57,20],[42,21,43,21],[42,22,43,22],[56,21,57,21],[56,22,57,22],[36,14,37,14],[44,12,45,12],[44,13,45,13],[44,14,45,14],[54,12,55,12],[54,13,55,13],[54,14,55,14],[38,12,39,12],[28,14,29,14],[6,9,7,9],[4,2,5,2],[4,3,5,3],[4,4,5,4],[4,5,5,5],[4,6,5,6],[16,6,17,6],[16,28,17,28],[24,21,25,21],[24,22,25,22],[4,14,5,14],[12,12,13,12],[12,13,13,13],[12,14,13,14],[20,12,21,12],[20,13,21,13],[20,14,21,14],[22,13,23,13],[22,14,23,14],[6,12,7,12],[6,13,7,13],[6,14,7,14],[14,9,15,9],[2,4,3,4],[2,5,3,5],[2,6,3,6],[2,2,3,2],[2,3,3,3],[8,21,9,21],[8,22,9,22],[24,20,25,20],[8,20,9,20],[14,10,15,10],[14,11,15,11],[14,12,15,12],[14,13,15,13],[14,14,15,14],[22,12,23,12],[6,17,7,17],[2,9,3,9],[10,17,11,17],[10,18,11,18],[10,19,11,19],[10,20,11,20],[10,21,11,21],[10,22,11,22],[4,10,5,10],[4,11,5,11],[12,10,13,10],[12,11,13,11],[20,10,21,10],[20,11,21,11],[28,10,29,10],[28,11,29,11],[36,10,37,10],[36,11,37,11],[44,10,45,10],[44,11,45,11],[52,10,53,10],[52,11,53,11],[60,10,61,10],[60,11,61,11],[56,18,57,18],[56,19,57,19],[40,18,41,18],[40,19,41,19],[52,12,53,12],[52,13,53,13],[52,14,53,14],[60,12,61,12],[60,13,61,13],[60,14,61,14],[54,11,55,11],[2,30,3,33],[4,31,5,33],[24,18,25,18],[24,19,25,19],[8,18,9,18],[8,19,9,19],[16,26,17,26],[16,27,17,27],[48,26,49,26],[48,27,49,27],[31,26,32,26],[33,26,34,28],[35,26,36,28],[38,23,39,23],[31,33,32,33],[16,29,17,29],[16,30,17,30],[48,28,49,28],[48,29,49,29],[48,30,49,30],[40,20,41,20],[40,21,41,21],[40,22,41,22],[34,33,35,33]]}
[]
[null,"Voorrondes"]
[null,null,"RM","RG","B","GC","HS",null,null,{"$f":"LToernooi!J3","v":"Kwart finale"},null,null,null,null,null,null,null,null,null,null,null,null,null,null,null,null,null,null,null,null,"Gemaakt door Mrah Development bv"]
[]
[null,{"$f":"'3BSpelers'!C4","v":0},{"$f":"'3BSpelers'!D4","v":0},{"$f":"C5/AA38","v":0},null,null,null,1,null,null,{"$f":"C3","v":"RM"},{"$f":"D3","v":"RG"},{"$f":"E3","v":"B"},{"$f":"F3","v":"GC"},{"$f":"G3","v":"HS"},null,null,null,null,null,null,null,null,null,null,null,null,null,null,null,null,"Revisie 1.0b"]
[]
[null,null,null,null,null,null,null,null,null,{"$f":"IF(SUM(E5:G6)+SUM(E9:G10)>0,IF(AND(F5=C5,F9=C9),IF(G5/F5>G9/F9,B5,B9),IF(C5-F5<C9-F9,B5,B9)),0)","v":0},{"$f":"IF(J7>0,IF(J7=B5,C5,C9),0)","v":0},{"$f":"K7/AA38","v":0},null,null,null,null,null,{"$f":"LToernooi!R7","v":"Halve finale"}]
[]
[null,{"$f":"'3BSpelers'!C5","v":0},{"$f":"'3BSpelers'!D5","v":0},{"$f":"C9/AA38","v":0},{"$f":"E5","v":0},null,null,null,null,null,null,null,null,null,null,null,null,null,{"$f":"K5","v":"RM"},{"$f":"L5","v":"RG"},"B","GC","HS"]
[]
[null,null,null,null,null,null,null,null,null,null,null,null,null,null,null,null,null,{"$f":"IF(SUM(M7:O8)+SUM(M15:O16)>0,IF(AND(N7=K7,N15=K15),IF(O7/N7>O15/N15,J7,J15),IF(K7-N7<K15-N15,J7,J15)),0)","v":0},{"$f":"IF(R11>0,IF(R11=J7,K7,K15),0)","v":0},{"$f":"S11/AA38","v":0}]
[]
[null,{"$f":"'3BSpelers'!C6","v":0},{"$f":"'3BSpelers'!D6","v":0},{"$f":"C13/AA38","v":0},null,null,null,{"$f":"H5+1","v":2},null,null,{"$f":"K5","v":"RM"},{"$f":"L5","v":"RG"},null,{"$f":"N5","v":"GC"},{"$f":"O5","v":"HS"}]
[]
[null,null,null,null,null,null,null,null,null,{"$f":"IF(SUM(E13:G14)+SUM(E17:G18)>0,IF(AND(F13=C13,F17=C17),IF(G13/F13>G17/F17,B13,B17),IF(C13-F13<C17-F17,B13,B17)),0)","v":0},{"$f":"IF(J15>0,IF(J15=B13,C13,C17),0)","v":0},{"$f":"K15/AA38","v":0},{"$f":"M7","v":0},null,null,null,null,null,null,null,null,null,null,null,null,{"$f":"LToernooi!Z15","v":"Finale"}]
[]
[null,{"$f":"'3BSpelers'!C7","v":0},{"$f":"'3BSpelers'!D7","v":0},{"$f":"C17/AA38","v":0},{"$f":"E13","v":0},null,null,null,null,null,null,null,null,null,null,null,null,null,null,null,null,null,null,null,null,null,{"$f":"S9","v":"RM"},{"$f":"T9","v":"RG"},"B","GC","HS"]
[]
[null,null,null,null,null,null,null,null,null,null,null,null,null,null,null,null,null,null,null,null,null,null,null,null,null,{"$f":"IF(SUM(U11:W12)+SUM(U27:W28)>0,IF(AND(V11=S11,V27=S27),IF(W11/V11>W27/V27,R11,R27),IF(S11-V11<S27-V27,R11,R27)),0)","v":0},{"$f":"IF(Z19>0,IF(Z19=R11,S11,S27),0)","v":0},{"$f":"AA19/AA38","v":0}]
[]
[null,{"$f":"'3BSpelers'!C8","v":0},{"$f":"'3BSpelers'!D8","v":0},{"$f":"C21/AA38","v":0},null,null,null,{"$f":"H13+1","v":3},null,null,{"$f":"K13","v":"RM"},{"$f":"L13","v":"RG"},{"$f":"M5","v":"B"},{"$f":"N13","v":"GC"},{"$f":"O13","v":"HS"}]
[]
[null,null,null,null,null,null,null,null,null,{"$f":"IF(SUM(E21:G22)+SUM(E25:G26)>0,IF(AND(F21=C21,F25=C25),IF(G21/F21>G25/F25,B21,B25),IF(C21-F21<C25-F25,B21,B25)),0)","v":0},{"$f":"IF(J23>0,IF(J23=B21,C21,C25),0)","v":0},{"$f":"K23/AA38","v":0}]
[]
[null,{"$f":"'3BSpelers'!C9","v":0},{"$f":"'3BSpelers'!D9","v":0},{"$f":"C25/AA38","v":0},{"$f":"E21","v":0},null,null,null,null,null,null,null,null,null,null,null,null,null,{"$f":"S9","v":"RM"},{"$f":"T9","v":"RG"},null,{"$f":"V9","v":"GC"},{"$f":"W9","v":"HS"}]
[]
[null,null,null,null,null,null,null,null,null,null,null,null,null,null,null,null,null,{"$f":"IF(SUM(M23:O24)+SUM(M31:O32)>0,IF(AND(N23=K23,N31=K31),IF(O23/N23>O31/N31,J23,J31),IF(K23-N23<K31-N31,J23,J31)),0)","v":0},{"$f":"IF(R19>0,IF(R19=J23,K23,K31),0)","v":0},{"$f":"S19/AA38","v":0},{"$f":"U11","v":0}]
[]
[null,{"$f":"'3BSpelers'!C10","v":0},{"$f":"'3BSpelers'!D10","v":0},{"$f":"C29/AA38","v":0},null,null,null,{"$f":"H21+1","v":4},null,null,{"$f":"K21","v":"RM"},{"$f":"L21","v":"RG"},null,{"$f":"N21","v":"GC"},{"$f":"O21","v":"HS"}]
[]
[null,null,null,null,null,null,null,null,null,{"$f":"IF(SUM(E29:G30)+SUM(E33:G34)>0,IF(AND(F29=C29,F33=C33),IF(G29/F29>G33/F33,B29,B33),IF(C29-F29<C33-F33,B29,B33)),0)","v":0},{"$f":"IF(J31>0,IF(J31=B29,C29,C33),0)","v":0},{"$f":"LAB38/AA38","v":0},{"$f":"M23","v":0}]
[null,null,null,null,null,null,null,null,null,null,null,null,null,null,null,null,null,null,null,null,null,null,null,null,null,{"$f":"'3BSpelers'!B22","v":"Jaar "},{"$f":"'3BSpelers'!C22","v":2014},null,null,null,null,null,null,"Finalist"]
[null,{"$f":"'3BSpelers'!C11","v":0},{"$f":"'3BSpelers'!D11","v":0},{"$f":"C33/AA38","v":0},{"$f":"E29","v":0}]
[null,null,null,null,null,null,null,null,null,null,null,null,null,null,null,null,null,null,null,null,null,null,null,null,null,{"$f":"'3BSpelers'!B23","v":"Club "},{"$f":"LToernooi!AA34","v":"Flodurianen"}]
[null,null,null,null,null,null,null,null,null,null,null,null,null,null,null,null,null,null,null,null,null,null,null,null,null,null,null,null,null,null,null,null,null,{"$f":"IF(SUM(AC19:AE20)+SUM(AC51:AE52)>0,IF(AND(AD19=AA19,AD51=AA51),IF(AE19/AD19>AE51/AD51,Z19,Z51),IF(AA19-AD19<AA51-AD51,Z19,Z51)),0)","v":0}]
[null,null,null,null,null,null,null,null,null,null,null,null,null,null,null,null,null,null,null,null,null,null,null,null,null,{"$f":"'3BSpelers'!B24","v":"Spelsoort "},{"$f":"'3BSpelers'!C24","v":"3 Banden"}]
[null,{"$f":"'3BSpelers'!C12","v":0},{"$f":"'3BSpelers'!D12","v":0},{"$f":"C37/AA38","v":0},null,null,null,{"$f":"H29+1","v":5},null,null,{"$f":"K29","v":"RM"},{"$f":"L29","v":"RG"},{"$f":"M21","v":"B"},{"$f":"N29","v":"GC"},{"$f":"O29","v":"HS"}]
[null,null,null,null,null,null,null,null,null,null,null,null,null,null,null,null,null,null,null,null,null,null,null,null,null,{"$f":"'3BSpelers'!B25","v":"Beurten "},{"$f":"'3BSpelers'!C25","v":50}]
[null,null,null,null,null,null,null,null,null,{"$f":"IF(SUM(E37:G38)+SUM(E41:G42)>0,IF(AND(F37=C37,F41=C41),IF(G37/F37>G41/F41,B37,B41),IF(C37-F37<C41-F41,B37,B41)),0)","v":0},{"$f":"IF(J39>0,IF(J39=B37,C37,C41),0)","v":0},{"$f":"K39/AA38","v":0}]
[]
[null,{"$f":"'3BSpelers'!C13","v":0},{"$f":"'3BSpelers'!D13","v":0},{"$f":"C41/AA38","v":0},{"$f":"E37","v":0},null,null,null,null,null,null,null,null,null,null,null,null,null,{"$f":"S25","v":"RM"},{"$f":"T25","v":"RG"},{"$f":"U9","v":"B"},"GC","HS"]
[]
[null,null,null,null,null,null,null,null,null,null,null,null,null,null,null,null,null,{"$f":"IF(SUM(M39:O40)+SUM(M47:O48)>0,IF(AND(N39=K39,N47=K47),IF(O39/N39>O47/N47,J39,J47),IF(K39-N39<K47-N47,J39,J47)),0)","v":0},{"$f":"IF(R51>0,IF(R51=J39,K39,K47),0)","v":0},{"$f":"S51/AA38","v":0}]
[]
[null,{"$f":"'3BSpelers'!C14","v":0},{"$f":"'3BSpelers'!D14","v":0},{"$f":"C45/AA38","v":0},null,null,null,{"$f":"H37+1","v":6},null,null,{"$f":"K37","v":"RM"},{"$f":"L37","v":"RG"},null,{"$f":"N37","v":"GC"},{"$f":"O37","v":"HS"}]
[]
[null,null,null,null,null,null,null,null,null,{"$f":"IF(SUM(E45:G46)+SUM(E49:G50)>0,IF(AND(F45=C45,F49=C49),IF(G45/F45>G49/F49,B45,B49),IF(C45-F45<C49-F49,B45,B49)),0)","v":0},{"$f":"IF(J47>0,IF(J47=B45,C45,C49),0)","v":0},{"$f":"K47/AA38","v":0},{"$f":"M39","v":0}]
[]
[null,{"$f":"'3BSpelers'!C15","v":0},{"$f":"'3BSpelers'!D15","v":0},{"$f":"C49/AA38","v":0},{"$f":"E45","v":0},null,null,null,null,null,null,null,null,null,null,null,null,null,null,null,null,null,null,null,null,null,{"$f":"AA17","v":"RM"},{"$f":"AB17","v":"RG"},null,{"$f":"AD17","v":"GC"},{"$f":"AE17","v":"HS"}]
[]
[null,null,null,null,null,null,null,null,null,null,null,null,null,null,null,null,null,null,null,null,null,null,null,null,null,{"$f":"IF(SUM(U43:W44)+SUM(U59:W60)>0,IF(AND(V43=S43,V59=S59),IF(W43/V43>W59/V59,R43,R59),IF(S43-V43<S59-V59,R43,R59)),0)","v":0},{"$f":"IF(Z51>0,IF(Z51=R43,S43,S59),0)","v":0},{"$f":"AA51/AA38","v":0},{"$f":"AC19","v":0}]
[]
[null,{"$f":"'3BSpelers'!C16","v":0},{"$f":"'3BSpelers'!D16","v":0},{"$f":"C53/AA38","v":0},null,null,null,{"$f":"H45+1","v":7},null,null,{"$f":"K45","v":"RM"},{"$f":"L45","v":"RG"},{"$f":"M37","v":"B"},{"$f":"N45","v":"GC"},{"$f":"O45","v":"HS"}]
[]
[null,null,null,null,null,null,null,null,null,{"$f":"IF(SUM(E53:G54)+SUM(E57:G58)>0,IF(AND(F53=C53,F57=C57),IF(G53/F53>G57/F57,B53,B57),IF(C53-F53<C57-F57,B53,B57)),0)","v":0},{"$f":"IF(J55>0,IF(J55=B53,C53,C57),0)","v":0},{"$f":"K55/AA38","v":0}]
[]
[null,{"$f":"'3BSpelers'!C17","v":0},{"$f":"'3BSpelers'!D17","v":0},{"$f":"C57/AA38","v":0},{"$f":"E53","v":0},null,null,null,null,null,null,null,null,null,null,null,null,null,{"$f":"S41","v":"RM"},{"$f":"T41","v":"RG"},null,{"$f":"V41","v":"GC"},{"$f":"W41","v":"HS"}]
[]
[null,null,null,null,null,null,null,null,null,null,null,null,null,null,null,null,null,{"$f":"IF(SUM(M55:O56)+SUM(M63:O64)>0,IF(AND(N55=K55,N63=K63),IF(O55/N55>O63/N63,J55,J63),IF(K55-N55<K63-N63,J55,J63)),0)","v":0},{"$f":"IF(R59>0,IF(R59=J55,K55,K63),0)","v":0},{"$f":"S59/AA38","v":0},{"$f":"U51","v":0}]
[]
[null,{"$f":"'3BSpelers'!C18","v":0},{"$f":"'3BSpelers'!D18","v":0},{"$f":"C61/AA38","v":0},null,null,null,{"$f":"H53+1","v":8},null,null,{"$f":"K53","v":"RM"},{"$f":"L53","v":"RG"},null,{"$f":"N53","v":"GC"},{"$f":"O53","v":"HS"}]
[]
[null,null,null,null,null,null,null,null,null,{"$f":"IF(SUM(E61:G62)+SUM(E65:G66)>0,IF(AND(F61=C61,F65=C65),IF(G61/F61>G65/F65,B61,B65),IF(C61-F61<C65-F65,B61,B65)),0)","v":0},{"$f":"IF(J63>0,IF(J63=B61,C61,C65),0)","v":0},{"$f":"K63/AA38","v":0},{"$f":"M55","v":0}]
[null,null,null,null,null,null,"``"]
[null,{"$f":"'3BSpelers'!C19","v":0},{"$f":"'3BSpelers'!D19","v":0},{"$f":"C65/AA38","v":0},{"$f":"E61","v":0}]

{"sheet":"3BSpelers","index":3,"n_rows":25,"n_cols":12,"rows_kept":25,"cut":false,"hidden":false,"merged":[[2,1,2,2]]}
[]
[]
[null,{"$f":"LSpelers!B3","v":"Revisie 1.0c"},null,"Rooster Caramboles",null,{"$f":"LToernooi!J3","v":"Kwart finale"},null,{"$f":"LToernooi!R7","v":"Halve finale"},null,{"$f":"LToernooi!Z15","v":"Finale"},null,{"$f":"LToernooi!AH32","v":"Finalist"}]
[null,1,null,null,null,{"$f":"'3BToernooi'!J7","v":0},null,{"$f":"'3BToernooi'!R11","v":0},null,{"$f":"'3BToernooi'!Z19","v":0},null,{"$f":"'3BToernooi'!AH35","v":0}]
[null,2,null,null,null,{"$f":"'3BToernooi'!J15","v":0},null,{"$f":"'3BToernooi'!R27","v":0},null,{"$f":"'3BToernooi'!Z51","v":0}]
[null,3,null,null,null,{"$f":"'3BToernooi'!J23","v":0},null,{"$f":"'3BToernooi'!R43","v":0}]
[null,4,null,null,null,{"$f":"'3BToernooi'!J31","v":0},null,{"$f":"'3BToernooi'!R59","v":0}]
[null,5,null,null,null,{"$f":"'3BToernooi'!J39","v":0}]
[null,6,null,null,null,{"$f":"'3BToernooi'!J47","v":0}]
[null,7,null,null,null,{"$f":"'3BToernooi'!J55","v":0}]
[null,8,null,null,null,{"$f":"'3BToernooi'!J63","v":0}]
[null,9]
[null,10]
[null,11]
[null,12]
[null,13]
[null,14]
[null,15]
[null,16]
[null,"Spelers",{"$f":"SUBTOTAL(3,C4:C19)","v":0}]
[]
[null,"Jaar ",{"$f":"LSpelers!C22","v":2014}]
[null,"Club ",{"$f":"Menu!F14","v":"Flodurianen"}," < Wordt bepaald bij Libre spelers"]
[null,"Spelsoort ","3 Banden"]
[null,"Beurten ",50]

{"sheet":"BSToernooi","index":4,"n_rows":65,"n_cols":34,"rows_kept":65,"cut":false,"hidden":false,"merged":[[60,1,61,1],[60,2,61,2],[60,3,61,3],[60,4,61,4],[62,25,63,25],[62,26,63,26],[64,1,65,1],[64,2,65,2],[64,3,65,3],[64,4,65,4],[64,5,65,5],[64,6,65,6],[64,25,65,25],[64,26,65,26],[62,9,63,9],[62,10,63,10],[62,11,63,11],[62,12,63,12],[62,13,63,13],[62,14,63,14],[60,5,61,5],[60,6,61,6],[60,10,61,10],[60,11,61,11],[60,12,61,12],[56,18,57,18],[56,19,57,19],[56,20,57,20],[56,21,57,21],[60,13,61,13],[60,14,61,14],[56,22,57,22],[58,17,59,17],[58,18,59,18],[58,19,59,19],[58,20,59,20],[58,21,59,21],[56,1,57,1],[56,2,57,2],[56,3,57,3],[56,4,57,4],[56,5,57,5],[56,6,57,6],[58,22,59,22],[52,13,53,13],[52,14,53,14],[54,9,55,9],[54,10,55,10],[54,11,55,11],[54,12,55,12],[54,13,55,13],[54,14,55,14],[52,1,53,1],[52,2,53,2],[52,3,53,3],[52,4,53,4],[52,5,53,5],[52,6,53,6],[52,10,53,10],[52,11,53,11],[52,12,53,12],[48,26,49,26],[48,27,49,27],[48,28,49,28],[48,29,49,29],[48,30,49,30],[50,25,51,25],[50,26,51,26],[50,27,51,27],[50,28,51,28],[50,29,51,29],[50,30,51,30],[48,1,49,1],[48,2,49,2],[48,3,49,3],[48,4,49,4],[48,5,49,5],[48,6,49,6],[44,13,45,13],[44,14,45,14],[46,9,47,9],[46,10,47,10],[46,11,47,11],[46,12,47,12],[46,13,47,13],[46,14,47,14],[44,1,45,1],[44,2,45,2],[44,3,45,3],[44,4,45,4],[44,5,45,5],[44,6,45,6],[44,10,45,10],[44,11,45,11],[44,12,45,12],[40,21,41,21],[40,22,41,22],[42,17,43,17],[42,18,43,18],[42,19,43,19],[42,20,43,20],[42,21,43,21],[42,22,43,22],[43,24,44,24],[40,1,41,1],[40,2,41,2],[40,3,41,3],[40,4,41,4],[40,5,41,5],[40,6,41,6],[40,18,41,18],[40,19,41,19],[40,20,41,20],[35,25,36,25],[35,26,36,28],[37,25,38,25],[37,26,38,26],[38,9,39,9],[38,10,39,10],[38,11,39,11],[38,12,39,12],[38,13,39,13],[38,14,39,14],[38,17,39,17],[38,18,39,18],[38,20,39,20],[38,21,39,21],[38,23,39,23],[36,1,37,1],[36,2,37,2],[36,3,37,3],[36,4,37,4],[36,5,37,5],[31,25,32,25],[31,26,32,26],[31,28,32,28],[31,33,32,33],[32,1,33,1],[32,2,33,2],[32,3,33,3],[32,4,33,4],[32,5,33,5],[32,6,33,6],[36,6,37,6],[36,10,37,10],[36,11,37,11],[36,12,37,12],[36,13,37,13],[36,14,37,14],[33,25,34,25],[33,26,34,28],[34,33,35,33],[28,13,29,13],[28,14,29,14],[30,9,31,9],[30,10,31,10],[30,11,31,11],[30,12,31,12],[30,13,31,13],[30,14,31,14],[26,22,27,22],[28,1,29,1],[28,2,29,2],[28,3,29,3],[28,4,29,4],[28,5,29,5],[28,6,29,6],[28,10,29,10],[28,11,29,11],[28,12,29,12],[24,18,25,18],[24,19,25,19],[24,20,25,20],[24,21,25,21],[24,22,25,22],[26,17,27,17],[26,18,27,18],[26,19,27,19],[26,20,27,20],[26,21,27,21],[24,1,25,1],[24,2,25,2],[24,3,25,3],[24,4,25,4],[24,5,25,5],[24,6,25,6],[20,12,21,12],[20,13,21,13],[20,14,21,14],[22,9,23,9],[22,10,23,10],[22,11,23,11],[22,12,23,12],[22,13,23,13],[22,14,23,14],[19,32,20,32],[20,1,21,1],[20,2,21,2],[20,3,21,3],[20,4,21,4],[20,5,21,5],[20,6,21,6],[20,10,21,10],[20,11,21,11],[16,26,17,26],[16,27,17,27],[16,28,17,28],[16,29,17,29],[16,30,17,30],[18,25,19,25],[18,26,19,26],[18,27,19,27],[18,28,19,28],[18,29,19,29],[18,30,19,30],[14,25,15,25],[16,1,17,1],[16,2,17,2],[16,3,17,3],[16,4,17,4],[16,5,17,5],[16,6,17,6],[12,12,13,12],[12,13,13,13],[12,14,13,14],[14,9,15,9],[14,10,15,10],[14,11,15,11],[14,12,15,12],[14,13,15,13],[14,14,15,14],[11,24,12,24],[12,1,13,1],[12,2,13,2],[12,3,13,3],[12,4,13,4],[12,5,13,5],[12,6,13,6],[12,10,13,10],[12,11,13,11],[8,18,9,18],[8,19,9,19],[8,20,9,20],[8,21,9,21],[8,22,9,22],[10,17,11,17],[10,18,11,18],[10,19,11,19],[10,20,11,20],[10,21,11,21],[10,22,11,22],[6,12,7,12],[6,13,7,13],[6,14,7,14],[6,17,7,17],[7,16,8,16],[8,1,9,1],[8,2,9,2],[8,3,9,3],[8,4,9,4],[8,5,9,5],[8,6,9,6],[2,30,3,33],[2,9,3,9],[4,1,5,1],[4,2,5,2],[4,3,5,3],[4,4,5,4],[4,5,5,5],[4,6,5,6],[4,10,5,10],[4,11,5,11],[2,1,3,1],[2,2,3,2],[2,3,3,3],[2,4,3,4],[2,5,3,5],[2,6,3,6],[4,12,5,12],[4,13,5,13],[4,14,5,14],[4,31,5,33],[5,8,6,8],[6,9,7,9],[6,10,7,10],[6,11,7,11]]}
[]
[null,"Voorrondes"]
[null,null,"RM","RG","B","GC","HS",null,null,{"$f":"LToernooi!J3","v":"Kwart finale"},null,null,null,null,null,null,null,null,null,null,null,null,null,null,null,null,null,null,null,null,"Gemaakt door Mrah Development bv"]
[]
[null,{"$f":"BSSpelers!C4","v":"Ome Henk"},{"$f":"BSSpelers!D4","v":0},{"$f":"C5/AA38","v":0},null,null,null,1,null,null,{"$f":"C3","v":"RM"},{"$f":"D3","v":"RG"},{"$f":"E3","v":"B"},{"$f":"F3","v":"GC"},{"$f":"G3","v":"HS"},null,null,null,null,null,null,null,null,null,null,null,null,null,null,null,null,"Revisie 1.0b"]
[]
[null,null,null,null,null,null,null,null,null,{"$f":"IF(SUM(E5:G6)+SUM(E9:G10)>0,IF(AND(F5=C5,F9=C9),IF(G5/F5>G9/F9,B5,B9),IF(C5-F5<C9-F9,B5,B9)),0)","v":0},{"$f":"IF(J7>0,IF(J7=B5,C5,C9),0)","v":0},{"$f":"K7/AA38","v":0},null,null,null,null,null,{"$f":"LToernooi!R7","v":"Halve finale"}]
[]
[null,{"$f":"BSSpelers!C5","v":0},{"$f":"BSSpelers!D5","v":0},{"$f":"C9/AA38","v":0},{"$f":"E5","v":0},null,null,null,null,null,null,null,null,null,null,null,null,null,{"$f":"K5","v":"RM"},{"$f":"L5","v":"RG"},"B","GC","HS"]
[]
[null,null,null,null,null,null,null,null,null,null,null,null,null,null,null,null,null,{"$f":"IF(SUM(M7:O8)+SUM(M15:O16)>0,IF(AND(N7=K7,N15=K15),IF(O7/N7>O15/N15,J7,J15),IF(K7-N7<K15-N15,J7,J15)),0)","v":0},{"$f":"IF(R11>0,IF(R11=J7,K7,K15),0)","v":0},{"$f":"S11/AA38","v":0}]
[]
[null,{"$f":"BSSpelers!C6","v":0},{"$f":"BSSpelers!D6","v":0},{"$f":"C13/AA38","v":0},null,null,null,{"$f":"H5+1","v":2},null,null,{"$f":"K5","v":"RM"},{"$f":"L5","v":"RG"},null,{"$f":"N5","v":"GC"},{"$f":"O5","v":"HS"}]
[]
[null,null,null,null,null,null,null,null,null,{"$f":"IF(SUM(E13:G14)+SUM(E17:G18)>0,IF(AND(F13=C13,F17=C17),IF(G13/F13>G17/F17,B13,B17),IF(C13-F13<C17-F17,B13,B17)),0)","v":0},{"$f":"IF(J15>0,IF(J15=B13,C13,C17),0)","v":0},{"$f":"K15/AA38","v":0},{"$f":"M7","v":0},null,null,null,null,null,null,null,null,null,null,null,null,{"$f":"LToernooi!Z15","v":"Finale"}]
[]
[null,{"$f":"BSSpelers!C7","v":0},{"$f":"BSSpelers!D7","v":0},{"$f":"C17/AA38","v":0},{"$f":"E13","v":0},null,null,null,null,null,null,null,null,null,null,null,null,null,null,null,null,null,null,null,null,null,{"$f":"S9","v":"RM"},{"$f":"T9","v":"RG"},"B","GC","HS"]
[]
[null,null,null,null,null,null,null,null,null,null,null,null,null,null,null,null,null,null,null,null,null,null,null,null,null,{"$f":"IF(SUM(U11:W12)+SUM(U27:W28)>0,IF(AND(V11=S11,V27=S27),IF(W11/V11>W27/V27,R11,R27),IF(S11-V11<S27-V27,R11,R27)),0)","v":0},{"$f":"IF(Z19>0,IF(Z19=R11,S11,S27),0)","v":0},{"$f":"AA19/AA38","v":0}]
[]
[null,{"$f":"BSSpelers!C8","v":0},{"$f":"BSSpelers!D8","v":0},{"$f":"C21/AA38","v":0},null,null,null,{"$f":"H13+1","v":3},null,null,{"$f":"K13","v":"RM"},{"$f":"L13","v":"RG"},{"$f":"M5","v":"B"},{"$f":"N13","v":"GC"},{"$f":"O13","v":"HS"}]
[]
[null,null,null,null,null,null,null,null,null,{"$f":"IF(SUM(E21:G22)+SUM(E25:G26)>0,IF(AND(F21=C21,F25=C25),IF(G21/F21>G25/F25,B21,B25),IF(C21-F21<C25-F25,B21,B25)),0)","v":0},{"$f":"IF(J23>0,IF(J23=B21,C21,C25),0)","v":0},{"$f":"K23/AA38","v":0}]
[]
[null,{"$f":"BSSpelers!C9","v":0},{"$f":"BSSpelers!D9","v":0},{"$f":"C25/AA38","v":0},{"$f":"E21","v":0},null,null,null,null,null,null,null,null,null,null,null,null,null,{"$f":"S9","v":"RM"},{"$f":"T9","v":"RG"},null,{"$f":"V9","v":"GC"},{"$f":"W9","v":"HS"}]
[]
[null,null,null,null,null,null,null,null,null,null,null,null,null,null,null,null,null,{"$f":"IF(SUM(M23:O24)+SUM(M31:O32)>0,IF(AND(N23=K23,N31=K31),IF(O23/N23>O31/N31,J23,J31),IF(K23-N23<K31-N31,J23,J31)),0)","v":0},{"$f":"IF(R19>0,IF(R19=J23,K23,K31),0)","v":0},{"$f":"S19/AA38","v":0},{"$f":"U11","v":0}]
[]
[null,{"$f":"BSSpelers!C10","v":0},{"$f":"BSSpelers!D10","v":0},{"$f":"C29/AA38","v":0},null,null,null,{"$f":"H21+1","v":4},null,null,{"$f":"K21","v":"RM"},{"$f":"L21","v":"RG"},null,{"$f":"N21","v":"GC"},{"$f":"O21","v":"HS"}]
[]
[null,null,null,null,null,null,null,null,null,{"$f":"IF(SUM(E29:G30)+SUM(E33:G34)>0,IF(AND(F29=C29,F33=C33),IF(G29/F29>G33/F33,B29,B33),IF(C29-F29<C33-F33,B29,B33)),0)","v":0},{"$f":"IF(J31>0,IF(J31=B29,C29,C33),0)","v":0},{"$f":"LAB38/AA38","v":0},{"$f":"M23","v":0}]
[null,null,null,null,null,null,null,null,null,null,null,null,null,null,null,null,null,null,null,null,null,null,null,null,null,{"$f":"BSSpelers!B22","v":"Jaar "},{"$f":"BSSpelers!C22","v":2014},null,null,null,null,null,null,"Finalist"]
[null,{"$f":"BSSpelers!C11","v":0},{"$f":"BSSpelers!D11","v":0},{"$f":"C33/AA38","v":0},{"$f":"E29","v":0}]
[null,null,null,null,null,null,null,null,null,null,null,null,null,null,null,null,null,null,null,null,null,null,null,null,null,{"$f":"BSSpelers!B23","v":"Club "},{"$f":"LSpelers!C23","v":"Flodurianen"}]
[null,null,null,null,null,null,null,null,null,null,null,null,null,null,null,null,null,null,null,null,null,null,null,null,null,null,null,null,null,null,null,null,null,{"$f":"IF(SUM(AC19:AE20)+SUM(AC51:AE52)>0,IF(AND(AD19=AA19,AD51=AA51),IF(AE19/AD19>AE51/AD51,Z19,Z51),IF(AA19-AD19<AA51-AD51,Z19,Z51)),0)","v":0}]
[null,null,null,null,null,null,null,null,null,null,null,null,null,null,null,null,null,null,null,null,null,null,null,null,null,{"$f":"BSSpelers!B24","v":"Spelsoort "},{"$f":"BSSpelers!C24","v":"Bandstoten"}]
[null,{"$f":"BSSpelers!C12","v":0},{"$f":"BSSpelers!D12","v":0},{"$f":"C37/AA38","v":0},null,null,null,{"$f":"H29+1","v":5},null,null,{"$f":"K29","v":"RM"},{"$f":"L29","v":"RG"},{"$f":"M21","v":"B"},{"$f":"N29","v":"GC"},{"$f":"O29","v":"HS"}]
[null,null,null,null,null,null,null,null,null,null,null,null,null,null,null,null,null,null,null,null,null,null,null,null,null,{"$f":"BSSpelers!B25","v":"Beurten "},{"$f":"BSSpelers!C25","v":30}]
[null,null,null,null,null,null,null,null,null,{"$f":"IF(SUM(E37:G38)+SUM(E41:G42)>0,IF(AND(F37=C37,F41=C41),IF(G37/F37>G41/F41,B37,B41),IF(C37-F37<C41-F41,B37,B41)),0)","v":0},{"$f":"IF(J39>0,IF(J39=B37,C37,C41),0)","v":0},{"$f":"K39/AA38","v":0}]
[]
[null,{"$f":"BSSpelers!C13","v":0},{"$f":"BSSpelers!D13","v":0},{"$f":"C41/AA38","v":0},{"$f":"E37","v":0},null,null,null,null,null,null,null,null,null,null,null,null,null,{"$f":"S25","v":"RM"},{"$f":"T25","v":"RG"},{"$f":"U9","v":"B"},"GC","HS"]
[]
[null,null,null,null,null,null,null,null,null,null,null,null,null,null,null,null,null,{"$f":"IF(SUM(M39:O40)+SUM(M47:O48)>0,IF(AND(N39=K39,N47=K47),IF(O39/N39>O47/N47,J39,J47),IF(K39-N39<K47-N47,J39,J47)),0)","v":0},{"$f":"IF(R51>0,IF(R51=J39,K39,K47),0)","v":0},{"$f":"S51/AA38","v":0}]
[]
[null,{"$f":"BSSpelers!C14","v":0},{"$f":"BSSpelers!D14","v":0},{"$f":"C45/AA38","v":0},null,null,null,{"$f":"H37+1","v":6},null,null,{"$f":"K37","v":"RM"},{"$f":"L37","v":"RG"},null,{"$f":"N37","v":"GC"},{"$f":"O37","v":"HS"}]
[]
[null,null,null,null,null,null,null,null,null,{"$f":"IF(SUM(E45:G46)+SUM(E49:G50)>0,IF(AND(F45=C45,F49=C49),IF(G45/F45>G49/F49,B45,B49),IF(C45-F45<C49-F49,B45,B49)),0)","v":0},{"$f":"IF(J47>0,IF(J47=B45,C45,C49),0)","v":0},{"$f":"K47/AA38","v":0},{"$f":"M39","v":0}]
[]
[null,{"$f":"BSSpelers!C15","v":0},{"$f":"BSSpelers!D15","v":0},{"$f":"C49/AA38","v":0},{"$f":"E45","v":0},null,null,null,null,null,null,null,null,null,null,null,null,null,null,null,null,null,null,null,null,null,{"$f":"AA17","v":"RM"},{"$f":"AB17","v":"RG"},null,{"$f":"AD17","v":"GC"},{"$f":"AE17","v":"HS"}]
[]
[null,null,null,null,null,null,null,null,null,null,null,null,null,null,null,null,null,null,null,null,null,null,null,null,null,{"$f":"IF(SUM(U43:W44)+SUM(U59:W60)>0,IF(AND(V43=S43,V59=S59),IF(W43/V43>W59/V59,R43,R59),IF(S43-V43<S59-V59,R43,R59)),0)","v":0},{"$f":"IF(Z51>0,IF(Z51=R43,S43,S59),0)","v":0},{"$f":"AA51/AA38","v":0},{"$f":"AC19","v":0}]
[]
[null,{"$f":"BSSpelers!C16","v":0},{"$f":"BSSpelers!D16","v":0},{"$f":"C53/AA38","v":0},null,null,null,{"$f":"H45+1","v":7},null,null,{"$f":"K45","v":"RM"},{"$f":"L45","v":"RG"},{"$f":"M37","v":"B"},{"$f":"N45","v":"GC"},{"$f":"O45","v":"HS"}]
[]
[null,null,null,null,null,null,null,null,null,{"$f":"IF(SUM(E53:G54)+SUM(E57:G58)>0,IF(AND(F53=C53,F57=C57),IF(G53/F53>G57/F57,B53,B57),IF(C53-F53<C57-F57,B53,B57)),0)","v":0},{"$f":"IF(J55>0,IF(J55=B53,C53,C57),0)","v":0},{"$f":"K55/AA38","v":0}]
[]
[null,{"$f":"BSSpelers!C17","v":0},{"$f":"BSSpelers!D17","v":0},{"$f":"C57/AA38","v":0},{"$f":"E53","v":0},null,null,null,null,null,null,null,null,null,null,null,null,null,{"$f":"S41","v":"RM"},{"$f":"T41","v":"RG"},null,{"$f":"V41","v":"GC"},{"$f":"W41","v":"HS"}]
[]
[null,null,null,null,null,null,null,null,null,null,null,null,null,null,null,null,null,{"$f":"IF(SUM(M55:O56)+SUM(M63:O64)>0,IF(AND(N55=K55,N63=K63),IF(O55/N55>O63/N63,J55,J63),IF(K55-N55<K63-N63,J55,J63)),0)","v":0},{"$f":"IF(R59>0,IF(R59=J55,K55,K63),0)","v":0},{"$f":"S59/AA38","v":0},{"$f":"U51","v":0}]
[]
[null,{"$f":"BSSpelers!C18","v":0},{"$f":"BSSpelers!D18","v":0},{"$f":"C61/AA38","v":0},null,null,null,{"$f":"H53+1","v":8},null,null,{"$f":"K53","v":"RM"},{"$f":"L53","v":"RG"},null,{"$f":"N53","v":"GC"},{"$f":"O53","v":"HS"}]
[]
[null,null,null,null,null,null,null,null,null,{"$f":"IF(SUM(E61:G62)+SUM(E65:G66)>0,IF(AND(F61=C61,F65=C65),IF(G61/F61>G65/F65,B61,B65),IF(C61-F61<C65-F65,B61,B65)),0)","v":0},{"$f":"IF(J63>0,IF(J63=B61,C61,C65),0)","v":0},{"$f":"K63/AA38","v":0},{"$f":"M55","v":0}]
[]
[null,{"$f":"BSSpelers!C19","v":0},{"$f":"BSSpelers!D19","v":0},{"$f":"C65/AA38","v":0},{"$f":"E61","v":0}]

{"sheet":"BSSpelers","index":5,"n_rows":25,"n_cols":12,"rows_kept":25,"cut":false,"hidden":false,"merged":[[2,1,2,2]]}
[]
[]
[null,{"$f":"LSpelers!B3","v":"Revisie 1.0c"},null,"Rooster Caramboles",null,{"$f":"LToernooi!J3","v":"Kwart finale"},null,{"$f":"LToernooi!R7","v":"Halve finale"},null,{"$f":"LToernooi!Z15","v":"Finale"},null,{"$f":"LToernooi!AH32","v":"Finalist"}]
[null,1,"Ome Henk",null,null,{"$f":"BSToernooi!J7","v":0},null,{"$f":"BSToernooi!R11","v":0},null,{"$f":"BSToernooi!Z19","v":0},null,{"$f":"BSToernooi!AH35","v":0}]
[null,2,null,null,null,{"$f":"BSToernooi!J15","v":0},null,{"$f":"BSToernooi!R27","v":0},null,{"$f":"BSToernooi!Z51","v":0}]
[null,3,null,null,null,{"$f":"BSToernooi!J23","v":0},null,{"$f":"BSToernooi!R43","v":0}]
[null,4,null,null,null,{"$f":"BSToernooi!J31","v":0},null,{"$f":"BSToernooi!R59","v":0}]
[null,5,null,null,null,{"$f":"BSToernooi!J39","v":0}]
[null,6,null,null,null,{"$f":"BSToernooi!J47","v":0}]
[null,7,null,null,null,{"$f":"BSToernooi!J55","v":0}]
[null,8,null,null,null,{"$f":"BSToernooi!J63","v":0}]
[null,9]
[null,10]
[null,11]
[null,12]
[null,13]
[null,14]
[null,15]
[null,16]
[null,"Spelers",{"$f":"SUBTOTAL(3,C4:C19)","v":1}]
[]
[null,"Jaar ",{"$f":"'3BSpelers'!C22","v":2014}]
[null,"Club ",{"$f":"Menu!F14","v":"Flodurianen"}," < Wordt bepaald bij Libre spelers"]
[null,"Spelsoort ","Bandstoten"]
[null,"Beurten ",30]

{"sheet":"Uitleg","index":6,"n_rows":101,"n_cols":19,"rows_kept":101,"cut":false,"hidden":false,"merged":[[37,2,37,21],[13,2,13,13],[5,2,5,21],[14,2,14,21],[16,4,16,21],[17,4,17,21],[18,4,18,21],[32,2,32,21],[11,8,11,12],[11,14,11,16]]}
[]
[]
[]
[]
[]
[null,null,"  Informatie"]
[]
[null,null,"  Naam programma",":",{"$f":"Menu!A100","v":"Biljart Clubtoernooi"}]
[null,null,"  Programmeur",":",{"$f":"LToernooi!AE3","v":"Gemaakt door Mrah Development bv"}]
[null,null,"  Huidige versie",":",{"$f":"LSpelers!B3","v":"Revisie 1.0c"}]
[null,null,"  Kosten",":","Geheel gratis, maar een bedankje mag altijd natuurlijk"]
[null,null,"  Laatste versie",":","Deze is altijd te vinden op mijn website:",null,null,null,"http://www.mrahdevelopment.nl"]
[]
[]
[null,null,"   Schermen"]
[]
[null,null,"Menu",":","In het menu van dit programma bepaal je of je Spelers (+ moyennes) wil invoeren / muteren of dat je toernooi uitslagen wilt gaan invoeren."]
[null,null,"Spelers scherm",":","Hier voer je de namen van de spelers en hun te maken caramboles voor de gekozen spelsoort in."]
[null,null,"Toernooi scherm",":","In het toernooi scherm van elke spelsoort worden de namen van de ingevoerde spelers en hun moyennes [RM en RG] automatisch ingevuld."]
[null,null,null,null,"Daana ga je de uitslagen in de vorm [] Beurten [B], gemaakte caramboles [GC] en de hoogste serie [HS] als volgt invoeren:"]
[]
[null,null,null,null,null,"RM","RG","B","GC","HS",null,null,"RM = Rooster moyenne",null,null,"RG = Rooster gemiddelde"]
[null,null,null,null,{"$f":"LSpelers!C4","v":"Mrah Zelf"},{"$f":"LToernooi!C5","v":44},{"$f":"LToernooi!D5","v":1.4666666666666666},22,44,13,null,null,"HS = Hoogste serie",null,null,"GC = Gemaakte caramboles",null,null,"B = Aantal beurten"]
[]
[]
[null,null,null,null,{"$f":"LSpelers!C5","v":"Flodur"},null,null,{"$f":"H23","v":22},65,18,null,null,null," Lege cel",null,65," Moyenne is lager"]
[]
[null,null,null,null,{"$f":"CONCATENATE(\"Op het moment dat van 1 partij alle gegevens [\",E23,\" tegen \",E26,\"] aanwezig zijn wordt de winnaar (met zijn RM en RG) automatisch doorgezet naar de volgende ronde\")","v":"Op het moment dat van 1 partij alle gegevens [Mrah Zelf tegen Flodur] aanwezig zijn wordt de winnaar (met zijn RM en RG) automatisch doorgezet naar de volgende ronde"}]
[null,null,null,null,"Waarom maar 16 deelnemers per spelsoort hoor ik iemand denken wel dat komt omdat je dan gelijk door moet naar 32 en dat is extreem veel voor een biljartclubje."]
[null,null,null,null,"Probeer maar eens een clubtoernooi op je culbje te houden met het schema van 16 spelers per spelsoort en dat weet je waarom dat mij genoeg leek."]
[]
[]
[null,null,"   VBA en Excel"]
[]
[null,null,"Bronnen",":","Ik heb over VBA en Excel te veel boeken gelezen om op te noemen maar ook voorbeelden op www.worksheet.nl hebben mij geholpen."]
[]
[]
[null,null,"   Met dank"]
[]
[null,null,"Bedankt",":","Een bedankje gaat zo als gewoonlijk naar Le-O-Nie en Flodur voor hun tekstuele aanvullingen en kanttekeningen."]
[]
[]
[]
[]
[]
[]
[]
[]
[]
[]
[]
[]
[]
[]
[]
[]
[]
[]
[]
[]
[]
[]
[]
[]
[]
[]
[]
[]
[]
[]
[]
[]
[]
[]
[]
[]
[]
[]
[]
[]
[]
[]
[]
[]
[]
[]
[]
[]
[]
[]
[]
[]
[]
[]
[]
[]
[]
[]
[]
[]
["Hoofdmenu"]

{"sheet":"Menu","index":7,"n_rows":102,"n_cols":8,"rows_kept":102,"cut":false,"hidden":false,"merged":[[14,3,14,7]]}
[]
[]
[]
[null,null,null,null,null,{"$f":"LSpelers!B3","v":"Revisie 1.0c"}]
[]
[null,null,null,"Speler gegevens muteren",null,"Aanwezige spelers",null,"Toernooi uitslagen muteren"]
[null,null,null,null,null,{"$f":"LSpelers!C20","v":2}]
[null,null,null,null,null,{"$f":"'3BSpelers'!C20","v":0}]
[null,null,null,null,null,{"$f":"BSSpelers!C20","v":1}]
[]
[]
[]
[]
[null,null,null,"E-mail Mrah                            Verlaat programma",null,"Flodurianen",null,"Informatie                    Verwijder aanwezige data"]
[null,null,null,"Biljartclub"]
[]
[]
[]
[]
[]
[]
[]
[]
[]
[]
[]
[]
[]
[]
[]
[]
[]
[]
[]
[]
[]
[]
[]
[]
[]
[]
[]
[]
[]
[]
[]
[]
[]
[]
[]
[]
[]
[]
[]
[]
[]
[]
[]
[]
[]
[]
[]
[]
[]
[]
[]
[]
[]
[]
[]
[]
[]
[]
[]
[]
[]
[]
[]
[]
[]
[]
[]
[]
[]
[]
[]
[]
[]
[]
[]
[]
[]
[]
[]
[]
[]
[]
[]
[]
["Biljart Clubtoernooi"]
[0,"Bedankje"]
[10,"Dagnummer"]